BEGIN:VCALENDAR
VERSION:2.0
PRODID:-//Squarespace Inc/Squarespace 6//v6//EN
BEGIN:VEVENT
UID:57d8b91d6a4963df2fe0c525@squarespace.com
DTSTAMP:20161116T024804Z
DTSTART:20161130T031500Z
DTEND:20161130T071500Z
SUMMARY:KUMA AGM and Drinks
END:VEVENT
END:VCALENDAR
