BEGIN:VCALENDAR
VERSION:2.0
PRODID:-//Squarespace Inc/Squarespace 6//v6//EN
BEGIN:VEVENT
UID:57d8b9a9e3df2827d1798c15@squarespace.com
DTSTAMP:20161116T025008Z
DTSTART:20161130T031500Z
DTEND:20161130T041500Z
SUMMARY:KUMA AGM
END:VEVENT
END:VCALENDAR
