BEGIN:VCALENDAR
VERSION:2.0
PRODID:-//Squarespace Inc/Squarespace 6//v6//EN
BEGIN:VEVENT
UID:57e9aff237c5814c0d80c7b9@squarespace.com
DTSTAMP:20160926T233457Z
DTSTART:20161007T201500Z
DTEND:20161007T211500Z
SUMMARY:Innov8 HQ Business Hub Opening
END:VEVENT
END:VCALENDAR
