BEGIN:VCALENDAR
VERSION:2.0
PRODID:-//Squarespace Inc/Squarespace 6//v6//EN
BEGIN:VEVENT
UID:57c79977bebafbcfa76a360c@squarespace.com
DTSTAMP:20160901T025949Z
DTSTART:20161009T221500Z
DTEND:20161009T231500Z
SUMMARY:KUMA Board Meeting
END:VEVENT
END:VCALENDAR
